BEGIN:VCALENDAR
VERSION:2.0
PRODID:-//Plone.org//NONSGML plone.app.event//EN
X-WR-TIMEZONE:Europe/Berlin
BEGIN:VEVENT
SUMMARY:Career Forum
DTSTART;TZID=Europe/Berlin:20250116T181500
DTEND;TZID=Europe/Berlin:20250116T200000
DTSTAMP:20260420T110200Z
UID:26ec39c3975b4948bdcfc8d2913292fa@www.iaak.uni-bonn.de
CREATED:20250108T100058Z
DESCRIPTION:The Alumni Network invites you to Career Forum Applied Linguis
 tics\, students ask questions and alumni answer!
LAST-MODIFIED:20260120T091808Z
URL:https://www.iaak.uni-bonn.de/bael/en/career-forum
END:VEVENT
BEGIN:VTIMEZONE
TZID:Europe/Berlin
X-LIC-LOCATION:Europe/Berlin
BEGIN:STANDARD
DTSTART:20241027T020000
TZNAME:CET
TZOFFSETFROM:+0200
TZOFFSETTO:+0100
END:STANDARD
END:VTIMEZONE
END:VCALENDAR
