BEGIN:VCALENDAR
VERSION:2.0
PRODID:-//Plone.org//NONSGML plone.app.event//EN
X-WR-TIMEZONE:Europe/Berlin
BEGIN:VEVENT
SUMMARY:BSFG Reads "Going Postal" (Pratchett) (POSTPONED TO DECEMBER 13!)
DTSTART;TZID=Europe/Berlin:20241213T160000
DTEND;TZID=Europe/Berlin:20241213T180000
DTSTAMP:20260425T111714Z
UID:bd7bc4539b314698a02f50b0721c451c@www.iaak.uni-bonn.de
CREATED:20241016T110022Z
DESCRIPTION:Join one of Bonn Speculative Fiction Group's last reading even
 ts!\n\nAt 4pm we quietly read together\, the normal meeting begins at 5pm 
 and lasts an hour.
LAST-MODIFIED:20250906T010232Z
URL:https://www.iaak.uni-bonn.de/en/news/miscellaneous/bsfg-reads-going-po
 stal-pratchett
END:VEVENT
BEGIN:VTIMEZONE
TZID:Europe/Berlin
X-LIC-LOCATION:Europe/Berlin
BEGIN:STANDARD
DTSTART:20241027T020000
TZNAME:CET
TZOFFSETFROM:+0200
TZOFFSETTO:+0100
END:STANDARD
END:VTIMEZONE
END:VCALENDAR
