BEGIN:VCALENDAR
VERSION:2.0
PRODID:-//Plone.org//NONSGML plone.app.event//EN
X-WR-TIMEZONE:Europe/Berlin
BEGIN:VEVENT
SUMMARY:Lecture Series: Current Issues in English Language Education
DTSTART;TZID=Europe/Berlin:20260427T180000
DTEND;TZID=Europe/Berlin:20260629T200000
DTSTAMP:20260425T155208Z
UID:da488f3f1094424884d93d5a25e70210@www.iaak.uni-bonn.de
CATEGORIES:TEFL_event
CREATED:20260417T071443Z
DESCRIPTION:Our students live in a world marked by upheaval\, whether due 
 to the global climate crisis or a shift to the political right. Democratic
  values and global cooperation are being challenged around the world. Engl
 ish language education can address these issues by creating a forum for di
 scourse about global challenges and social goals. This term’s Current Is
 sues Lecture Series is dedicated to the exploration of language education
 ’s social aims\, which include\, among other things\, teaching and learn
 ing for human rights and children’s rights\, fostering critical media li
 teracy\, and ecopedagogies. We are delighted to offer five fantastic works
 hops/lectures revolving around those issues and look forward to meeting yo
 u there! Register for individual sessions via e-mail: ricardo.roemhild@uni
 -bonn.de\n\nPlease find the program via the link below.
LAST-MODIFIED:20260423T101115Z
URL:https://www.iaak.uni-bonn.de/en/news/tefl-events/lecture-series
END:VEVENT
BEGIN:VTIMEZONE
TZID:Europe/Berlin
X-LIC-LOCATION:Europe/Berlin
BEGIN:DAYLIGHT
DTSTART:20260329T030000
TZNAME:CEST
TZOFFSETFROM:+0100
TZOFFSETTO:+0200
END:DAYLIGHT
END:VTIMEZONE
END:VCALENDAR
