BEGIN:VCALENDAR
VERSION:2.0
PRODID:-//Plone.org//NONSGML plone.app.event//EN
X-WR-TIMEZONE:Europe/Berlin
BEGIN:VEVENT
SUMMARY:Poster Workshop
DTSTART;TZID=Europe/Berlin:20230622T110000
DTEND;TZID=Europe/Berlin:20230622T120000
DTSTAMP:20260421T193959Z
UID:8e23a6a1c6b44787a8cb1013e8141906@www.iaak.uni-bonn.de
CREATED:20230721T095653Z
DESCRIPTION:In preparation for the upcoming BAELc12\, we held a small post
 er workshop. This way\, the students can start preparing their posters for
  the conference and get feedback. While this is intended for the Intercult
 ural Communication class from Winter 22/23\, everyone was warmly welcome.\
 n\n The workshop took place in between classes on Thursday\, June 22nd\, b
 etween 12 pm (c.t.) and 14pm\, in Room D of the main building.
LAST-MODIFIED:20250906T010849Z
URL:https://www.iaak.uni-bonn.de/lets/events-news/events-1/poster-workshop
END:VEVENT
BEGIN:VTIMEZONE
TZID:Europe/Berlin
X-LIC-LOCATION:Europe/Berlin
BEGIN:DAYLIGHT
DTSTART:20230326T030000
TZNAME:CEST
TZOFFSETFROM:+0100
TZOFFSETTO:+0200
END:DAYLIGHT
END:VTIMEZONE
END:VCALENDAR
